BEGIN:VCALENDAR
VERSION:2.0
PRODID:-//Off The Wall - ECPv6.15.18//NONSGML v1.0//EN
CALSCALE:GREGORIAN
METHOD:PUBLISH
X-WR-CALNAME:Off The Wall
X-ORIGINAL-URL:https://offthewallhawaii.com
X-WR-CALDESC:Events for Off The Wall
REFRESH-INTERVAL;VALUE=DURATION:PT1H
X-Robots-Tag:noindex
X-PUBLISHED-TTL:PT1H
BEGIN:VTIMEZONE
TZID:Pacific/Honolulu
BEGIN:STANDARD
TZOFFSETFROM:-1000
TZOFFSETTO:-1000
TZNAME:HST
DTSTART:20240101T000000
END:STANDARD
END:VTIMEZONE
BEGIN:VEVENT
DTSTART;TZID=Pacific/Honolulu:20251023T190000
DTEND;TZID=Pacific/Honolulu:20251023T210000
DTSTAMP:20260421T102639
CREATED:20251001T020259Z
LAST-MODIFIED:20251001T020259Z
UID:209-1761246000-1761253200@offthewallhawaii.com
SUMMARY:Boogie’s Blues
DESCRIPTION:@boogiesblues
URL:https://offthewallhawaii.com/event/boogies-blues/
ATTACH;FMTTYPE=image/jpeg:https://offthewallhawaii.com/wp-content/uploads/2025/09/boogies-blues.jpg
END:VEVENT
END:VCALENDAR