BEGIN:VCALENDAR
VERSION:2.0
PRODID:-//Off The Wall - ECPv6.15.18//NONSGML v1.0//EN
CALSCALE:GREGORIAN
METHOD:PUBLISH
X-ORIGINAL-URL:https://offthewallhawaii.com
X-WR-CALDESC:Events for Off The Wall
REFRESH-INTERVAL;VALUE=DURATION:PT1H
X-Robots-Tag:noindex
X-PUBLISHED-TTL:PT1H
BEGIN:VTIMEZONE
TZID:Pacific/Honolulu
BEGIN:STANDARD
TZOFFSETFROM:-1000
TZOFFSETTO:-1000
TZNAME:HST
DTSTART:20240101T000000
END:STANDARD
END:VTIMEZONE
BEGIN:VEVENT
DTSTART;TZID=Pacific/Honolulu:20251024T200000
DTEND;TZID=Pacific/Honolulu:20251024T220000
DTSTAMP:20260421T074549
CREATED:20251001T020711Z
LAST-MODIFIED:20251001T020711Z
UID:211-1761336000-1761343200@offthewallhawaii.com
SUMMARY:Robbie Kelly
DESCRIPTION:@robertmcbobert_
URL:https://offthewallhawaii.com/event/robbie-kelly/
LOCATION:Off The Wall\, 1170 Auahi St.\, Suite 140\, Honolulu\, HI\, 96814\, United States
ATTACH;FMTTYPE=image/jpeg:https://offthewallhawaii.com/wp-content/uploads/2025/09/robbie-kelly.jpg
END:VEVENT
END:VCALENDAR