BEGIN:VCALENDAR
VERSION:2.0
PRODID:-//Off The Wall - ECPv6.15.18//NONSGML v1.0//EN
CALSCALE:GREGORIAN
METHOD:PUBLISH
X-WR-CALNAME:Off The Wall
X-ORIGINAL-URL:https://offthewallhawaii.com
X-WR-CALDESC:Events for Off The Wall
REFRESH-INTERVAL;VALUE=DURATION:PT1H
X-Robots-Tag:noindex
X-PUBLISHED-TTL:PT1H
BEGIN:VTIMEZONE
TZID:Pacific/Honolulu
BEGIN:STANDARD
TZOFFSETFROM:-1000
TZOFFSETTO:-1000
TZNAME:HST
DTSTART:20240101T000000
END:STANDARD
END:VTIMEZONE
BEGIN:VEVENT
DTSTART;TZID=Pacific/Honolulu:20251030T190000
DTEND;TZID=Pacific/Honolulu:20251030T210000
DTSTAMP:20260421T074326
CREATED:20251001T021034Z
LAST-MODIFIED:20251001T021034Z
UID:215-1761850800-1761858000@offthewallhawaii.com
SUMMARY:Howling Phoenix
DESCRIPTION:@tommounsey
URL:https://offthewallhawaii.com/event/howling-phoenix/
LOCATION:Off The Wall\, 1170 Auahi St.\, Suite 140\, Honolulu\, HI\, 96814\, United States
ATTACH;FMTTYPE=image/jpeg:https://offthewallhawaii.com/wp-content/uploads/2025/09/howling-phoenix.jpg
END:VEVENT
END:VCALENDAR