BEGIN:VCALENDAR
VERSION:2.0
PRODID:-//Off The Wall - ECPv6.15.18//NONSGML v1.0//EN
CALSCALE:GREGORIAN
METHOD:PUBLISH
X-ORIGINAL-URL:https://offthewallhawaii.com
X-WR-CALDESC:Events for Off The Wall
REFRESH-INTERVAL;VALUE=DURATION:PT1H
X-Robots-Tag:noindex
X-PUBLISHED-TTL:PT1H
BEGIN:VTIMEZONE
TZID:Pacific/Honolulu
BEGIN:STANDARD
TZOFFSETFROM:-1000
TZOFFSETTO:-1000
TZNAME:HST
DTSTART:20240101T000000
END:STANDARD
END:VTIMEZONE
BEGIN:VEVENT
DTSTART;TZID=Pacific/Honolulu:20251101T190000
DTEND;TZID=Pacific/Honolulu:20251101T210000
DTSTAMP:20260421T050513
CREATED:20251101T024814Z
LAST-MODIFIED:20251101T024814Z
UID:255-1762023600-1762030800@offthewallhawaii.com
SUMMARY:Maeh
DESCRIPTION:@maehallday
URL:https://offthewallhawaii.com/event/maeh-2/
END:VEVENT
BEGIN:VEVENT
DTSTART;TZID=Pacific/Honolulu:20251106T190000
DTEND;TZID=Pacific/Honolulu:20251106T210000
DTSTAMP:20260421T050513
CREATED:20251101T024920Z
LAST-MODIFIED:20251101T024920Z
UID:256-1762455600-1762462800@offthewallhawaii.com
SUMMARY:Boogies Blues
DESCRIPTION:@boogiesblues
URL:https://offthewallhawaii.com/event/boogies-blues-2/
END:VEVENT
BEGIN:VEVENT
DTSTART;TZID=Pacific/Honolulu:20251107T200000
DTEND;TZID=Pacific/Honolulu:20251107T220000
DTSTAMP:20260421T050514
CREATED:20251101T025019Z
LAST-MODIFIED:20251101T025019Z
UID:257-1762545600-1762552800@offthewallhawaii.com
SUMMARY:Noah Myers
DESCRIPTION:@noamyersmusic
URL:https://offthewallhawaii.com/event/noah-myers-2/
END:VEVENT
BEGIN:VEVENT
DTSTART;TZID=Pacific/Honolulu:20251108T200000
DTEND;TZID=Pacific/Honolulu:20251108T220000
DTSTAMP:20260421T050514
CREATED:20251101T025055Z
LAST-MODIFIED:20251101T025055Z
UID:258-1762632000-1762639200@offthewallhawaii.com
SUMMARY:Vance Kumamoto
DESCRIPTION:@vance.kumamoto
URL:https://offthewallhawaii.com/event/vance-kumamoto/
END:VEVENT
BEGIN:VEVENT
DTSTART;TZID=Pacific/Honolulu:20251113T190000
DTEND;TZID=Pacific/Honolulu:20251113T210000
DTSTAMP:20260421T050514
CREATED:20251101T025127Z
LAST-MODIFIED:20251112T033801Z
UID:259-1763060400-1763067600@offthewallhawaii.com
SUMMARY:Raquel Norland
DESCRIPTION:@RaquelNorland
URL:https://offthewallhawaii.com/event/the-mauve-2/
END:VEVENT
BEGIN:VEVENT
DTSTART;TZID=Pacific/Honolulu:20251114T200000
DTEND;TZID=Pacific/Honolulu:20251114T220000
DTSTAMP:20260421T050514
CREATED:20251101T025158Z
LAST-MODIFIED:20251101T025158Z
UID:260-1763150400-1763157600@offthewallhawaii.com
SUMMARY:Duva
DESCRIPTION:@duva_shell
URL:https://offthewallhawaii.com/event/duva-3/
END:VEVENT
BEGIN:VEVENT
DTSTART;TZID=Pacific/Honolulu:20251115T200000
DTEND;TZID=Pacific/Honolulu:20251115T220000
DTSTAMP:20260421T050514
CREATED:20251101T025235Z
LAST-MODIFIED:20251101T025235Z
UID:261-1763236800-1763244000@offthewallhawaii.com
SUMMARY:Rebecca James
DESCRIPTION:@RebeccaJamesMusic
URL:https://offthewallhawaii.com/event/rebecca-james-2/
END:VEVENT
BEGIN:VEVENT
DTSTART;TZID=Pacific/Honolulu:20251120T190000
DTEND;TZID=Pacific/Honolulu:20251120T210000
DTSTAMP:20260421T050514
CREATED:20251101T025308Z
LAST-MODIFIED:20251101T025308Z
UID:262-1763665200-1763672400@offthewallhawaii.com
SUMMARY:Boogie’s Blues
DESCRIPTION:@Boogie’s Blues
URL:https://offthewallhawaii.com/event/boogies-blues-3/
END:VEVENT
BEGIN:VEVENT
DTSTART;TZID=Pacific/Honolulu:20251121T200000
DTEND;TZID=Pacific/Honolulu:20251121T220000
DTSTAMP:20260421T050514
CREATED:20251101T025337Z
LAST-MODIFIED:20251101T025337Z
UID:263-1763755200-1763762400@offthewallhawaii.com
SUMMARY:Danielle Parente
DESCRIPTION:@danielleparente
URL:https://offthewallhawaii.com/event/danielle-parente/
END:VEVENT
BEGIN:VEVENT
DTSTART;TZID=Pacific/Honolulu:20251122T200000
DTEND;TZID=Pacific/Honolulu:20251122T220000
DTSTAMP:20260421T050514
CREATED:20251101T025408Z
LAST-MODIFIED:20251101T025408Z
UID:264-1763841600-1763848800@offthewallhawaii.com
SUMMARY:Mel Kay
DESCRIPTION:@mel.kay.music
URL:https://offthewallhawaii.com/event/mel-kay-2/
END:VEVENT
BEGIN:VEVENT
DTSTART;TZID=Pacific/Honolulu:20251126T080000
DTEND;TZID=Pacific/Honolulu:20251126T220000
DTSTAMP:20260421T050514
CREATED:20251101T025457Z
LAST-MODIFIED:20251101T025457Z
UID:265-1764144000-1764194400@offthewallhawaii.com
SUMMARY:Clare Nelson
DESCRIPTION:@iamclarazoid
URL:https://offthewallhawaii.com/event/clare-nelson-2/
END:VEVENT
BEGIN:VEVENT
DTSTART;TZID=Pacific/Honolulu:20251128T200000
DTEND;TZID=Pacific/Honolulu:20251128T220000
DTSTAMP:20260421T050514
CREATED:20251101T025531Z
LAST-MODIFIED:20251101T025531Z
UID:266-1764360000-1764367200@offthewallhawaii.com
SUMMARY:Lila Christensen
DESCRIPTION:@lilachrismusic
URL:https://offthewallhawaii.com/event/lila-christensen/
END:VEVENT
BEGIN:VEVENT
DTSTART;TZID=Pacific/Honolulu:20251129T200000
DTEND;TZID=Pacific/Honolulu:20251129T220000
DTSTAMP:20260421T050514
CREATED:20251101T025600Z
LAST-MODIFIED:20251101T025600Z
UID:267-1764446400-1764453600@offthewallhawaii.com
SUMMARY:Ali Sky
DESCRIPTION:@ali.sky.music
URL:https://offthewallhawaii.com/event/ali-sky-2/
END:VEVENT
END:VCALENDAR